BEGIN:VCALENDAR
VERSION:2.0
PRODID:-//hacksw/handcal//NONSGML v1.0//EN
CALSCALE:GREGORIAN
BEGIN:VEVENT
DTSTART:20130625T080000Z
DTEND:20130625T080000Z
UID:e13556
DTSTAMP:20260421T085040Z
LOCATION:Helen and Milton A. Kimmelman Building
DESCRIPTION:"Templated synthesis of protein conjugates and other applications of coordinative bonding"
SUMMARY:"Templated synthesis of protein conjugates and other applications of coordinative bonding"
END:VEVENT
END:VCALENDAR