BEGIN:VCALENDAR
VERSION:2.0
PRODID:-//hacksw/handcal//NONSGML v1.0//EN
CALSCALE:GREGORIAN
BEGIN:VEVENT
DTSTART:20130625T081500Z
DTEND:20130625T081500Z
UID:e13562
DTSTAMP:20260421T102858Z
LOCATION:Ullmann Building of Life Sciences
DESCRIPTION:"Lessons from Metabolic Flux Analysis of developing seeds and other plant systems"
SUMMARY:"Lessons from Metabolic Flux Analysis of developing seeds and other plant systems"
END:VEVENT
END:VCALENDAR