BEGIN:VCALENDAR
VERSION:2.0
PRODID:-//hacksw/handcal//NONSGML v1.0//EN
CALSCALE:GREGORIAN
BEGIN:VEVENT
DTSTART:20130626T083000Z
DTEND:20130626T083000Z
UID:e13565
DTSTAMP:20260421T102856Z
LOCATION:Nella and Leon Benoziyo Building for Brain Research
DESCRIPTION:Law and Order in Visual Cortical Evolution
SUMMARY:Law and Order in Visual Cortical Evolution
END:VEVENT
END:VCALENDAR