BEGIN:VCALENDAR
VERSION:2.0
PRODID:-//hacksw/handcal//NONSGML v1.0//EN
CALSCALE:GREGORIAN
BEGIN:VEVENT
DTSTART:20130630T080000Z
DTEND:20130630T080000Z
UID:e13574
DTSTAMP:20260421T102939Z
LOCATION:Helen and Milton A. Kimmelman Building
DESCRIPTION: &#8220\;Rational Design of Low Band-Gap Conjugated Polymers for Optoelectronic Devices&#8221\;
SUMMARY: &#8220\;Rational Design of Low Band-Gap Conjugated Polymers for Optoelectronic Devices&#8221\;
END:VEVENT
END:VCALENDAR