BEGIN:VCALENDAR
VERSION:2.0
PRODID:-//hacksw/handcal//NONSGML v1.0//EN
CALSCALE:GREGORIAN
BEGIN:VEVENT
DTSTART:20140408T110000Z
DTEND:20140408T110000Z
UID:e13596
DTSTAMP:20260423T005215Z
LOCATION:Ullmann Building of Life Sciences
DESCRIPTION:Pathogenic mechanisms involved in neuronal cell death in Niemann-Pick type C disease
SUMMARY:Pathogenic mechanisms involved in neuronal cell death in Niemann-Pick type C disease
END:VEVENT
END:VCALENDAR