BEGIN:VCALENDAR
VERSION:2.0
PRODID:-//hacksw/handcal//NONSGML v1.0//EN
CALSCALE:GREGORIAN
BEGIN:VEVENT
DTSTART:20140102T120000Z
DTEND:20140102T130000Z
UID:e13617
DTSTAMP:20260424T174903Z
LOCATION:Dolfi and Lola Ebner Auditorium
DESCRIPTION:Life Science lecture-If only they could talk\; what can the zebrafish tell us about our brain 
SUMMARY:Life Science lecture-If only they could talk\; what can the zebrafish tell us about our brain 
END:VEVENT
END:VCALENDAR