BEGIN:VCALENDAR
VERSION:2.0
PRODID:-//hacksw/handcal//NONSGML v1.0//EN
CALSCALE:GREGORIAN
BEGIN:VEVENT
DTSTART:20140626T120000Z
DTEND:20140626T130000Z
UID:e13622
DTSTAMP:20260425T204359Z
LOCATION:Dolfi and Lola Ebner Auditorium
DESCRIPTION:Life Science Lecture
SUMMARY:Life Science Lecture
END:VEVENT
END:VCALENDAR