BEGIN:VCALENDAR
VERSION:2.0
PRODID:-//hacksw/handcal//NONSGML v1.0//EN
CALSCALE:GREGORIAN
BEGIN:VEVENT
DTSTART:20131208T050000Z
DTEND:20131209T150000Z
UID:e13639
DTSTAMP:20260421T180747Z
LOCATION:The David Lopatie Conference Centre
DESCRIPTION:The Helmsley Stem Cell Symposium
SUMMARY:The Helmsley Stem Cell Symposium
END:VEVENT
END:VCALENDAR