BEGIN:VCALENDAR
VERSION:2.0
PRODID:-//hacksw/handcal//NONSGML v1.0//EN
CALSCALE:GREGORIAN
BEGIN:VEVENT
DTSTART:20140115T173000Z
DTEND:20140115T173000Z
UID:e13661
DTSTAMP:20260425T070926Z
LOCATION:Dolfi and Lola Ebner Auditorium
DESCRIPTION:Hadar Rimon and Natasha Tadson
SUMMARY:Hadar Rimon and Natasha Tadson
END:VEVENT
END:VCALENDAR