BEGIN:VCALENDAR
VERSION:2.0
PRODID:-//hacksw/handcal//NONSGML v1.0//EN
CALSCALE:GREGORIAN
BEGIN:VEVENT
DTSTART:20140204T143000Z
DTEND:20140204T143000Z
UID:e13665
DTSTAMP:20260425T234732Z
LOCATION:Michael Sela Auditorium
DESCRIPTION:Let's dance - with Nitza Shaul
SUMMARY:Let's dance - with Nitza Shaul
END:VEVENT
END:VCALENDAR