BEGIN:VCALENDAR
VERSION:2.0
PRODID:-//hacksw/handcal//NONSGML v1.0//EN
CALSCALE:GREGORIAN
BEGIN:VEVENT
DTSTART:20140609T173000Z
DTEND:20140609T173000Z
UID:e13668
DTSTAMP:20260425T225304Z
LOCATION:Michael Sela Auditorium
DESCRIPTION:Winners of the Rubinstein competition
SUMMARY:Winners of the Rubinstein competition
END:VEVENT
END:VCALENDAR