BEGIN:VCALENDAR
VERSION:2.0
PRODID:-//hacksw/handcal//NONSGML v1.0//EN
CALSCALE:GREGORIAN
BEGIN:VEVENT
DTSTART:20131019T180000Z
DTEND:20131019T180000Z
UID:e13678
DTSTAMP:20260420T194153Z
LOCATION:Michael Sela Auditorium
DESCRIPTION:Horses on the Gaya Highway
SUMMARY:Horses on the Gaya Highway
END:VEVENT
END:VCALENDAR