BEGIN:VCALENDAR
VERSION:2.0
PRODID:-//hacksw/handcal//NONSGML v1.0//EN
CALSCALE:GREGORIAN
BEGIN:VEVENT
DTSTART:20131125T170000Z
DTEND:20131125T170000Z
UID:e13686
DTSTAMP:20260421T224343Z
LOCATION:Michael Sela Auditorium
DESCRIPTION:Chabad Songs
SUMMARY:Chabad Songs
END:VEVENT
END:VCALENDAR