BEGIN:VCALENDAR
VERSION:2.0
PRODID:-//hacksw/handcal//NONSGML v1.0//EN
CALSCALE:GREGORIAN
BEGIN:VEVENT
DTSTART:20131015T070000Z
DTEND:20131015T080000Z
UID:e13696
DTSTAMP:20260419T224751Z
LOCATION:Wolfson Building for Biological Research
DESCRIPTION:"Stem Cells and Apoptosis- a Matter of Life and Death".
SUMMARY:"Stem Cells and Apoptosis- a Matter of Life and Death".
END:VEVENT
END:VCALENDAR