BEGIN:VCALENDAR
VERSION:2.0
PRODID:-//hacksw/handcal//NONSGML v1.0//EN
CALSCALE:GREGORIAN
BEGIN:VEVENT
DTSTART:20131029T070000Z
DTEND:20131029T073000Z
UID:e13698
DTSTAMP:20260420T085628Z
LOCATION:Wolfson Building for Biological Research
DESCRIPTION:"Studying the relationship between p53 structure and degradation"
SUMMARY:"Studying the relationship between p53 structure and degradation"
END:VEVENT
END:VCALENDAR