BEGIN:VCALENDAR
VERSION:2.0
PRODID:-//hacksw/handcal//NONSGML v1.0//EN
CALSCALE:GREGORIAN
BEGIN:VEVENT
DTSTART:20131029T073000Z
DTEND:20131029T080000Z
UID:e13699
DTSTAMP:20260420T085605Z
LOCATION:Wolfson Building for Biological Research
DESCRIPTION:Membrane targeting of ribosomes by the SRP system- surprises in vivo
SUMMARY:Membrane targeting of ribosomes by the SRP system- surprises in vivo
END:VEVENT
END:VCALENDAR