BEGIN:VCALENDAR
VERSION:2.0
PRODID:-//hacksw/handcal//NONSGML v1.0//EN
CALSCALE:GREGORIAN
BEGIN:VEVENT
DTSTART:20140114T070000Z
DTEND:20140114T080000Z
UID:e13703
DTSTAMP:20260425T070949Z
LOCATION:Wolfson Building for Biological Research
DESCRIPTION:The mechanobiology of cell adhesion
SUMMARY:The mechanobiology of cell adhesion
END:VEVENT
END:VCALENDAR