BEGIN:VCALENDAR
VERSION:2.0
PRODID:-//hacksw/handcal//NONSGML v1.0//EN
CALSCALE:GREGORIAN
BEGIN:VEVENT
DTSTART:20131126T070000Z
DTEND:20131126T080000Z
UID:e13710
DTSTAMP:20260421T150455Z
LOCATION:Wolfson Building for Biological Research
DESCRIPTION:To be announced
SUMMARY:To be announced
END:VEVENT
END:VCALENDAR