BEGIN:VCALENDAR
VERSION:2.0
PRODID:-//hacksw/handcal//NONSGML v1.0//EN
CALSCALE:GREGORIAN
BEGIN:VEVENT
DTSTART:20131023T093000Z
DTEND:20131023T093000Z
UID:e13717
DTSTAMP:20260420T115045Z
LOCATION:Michael Sela Auditorium
DESCRIPTION:The Ron Ba&#8217\;Machon choir
SUMMARY:The Ron Ba&#8217\;Machon choir
END:VEVENT
END:VCALENDAR