BEGIN:VCALENDAR
VERSION:2.0
PRODID:-//hacksw/handcal//NONSGML v1.0//EN
CALSCALE:GREGORIAN
BEGIN:VEVENT
DTSTART:20140107T050000Z
DTEND:20140109T151500Z
UID:e13722
DTSTAMP:20260424T174853Z
LOCATION:Gerhard M.J. Schmidt Lecture Hall
DESCRIPTION:Yale-Weizmann Encounter in the Biological\, Physical\, and Engineering Sciences
SUMMARY:Yale-Weizmann Encounter in the Biological\, Physical\, and Engineering Sciences
END:VEVENT
END:VCALENDAR