BEGIN:VCALENDAR
VERSION:2.0
PRODID:-//hacksw/handcal//NONSGML v1.0//EN
CALSCALE:GREGORIAN
BEGIN:VEVENT
DTSTART:20131126T091500Z
DTEND:20131126T091500Z
UID:e13730
DTSTAMP:20260422T033913Z
LOCATION:Wolfson Building for Biological Research
DESCRIPTION:A dynamic proteomics approach for profiling targeted therapy drugs
SUMMARY:A dynamic proteomics approach for profiling targeted therapy drugs
END:VEVENT
END:VCALENDAR