BEGIN:VCALENDAR
VERSION:2.0
PRODID:-//hacksw/handcal//NONSGML v1.0//EN
CALSCALE:GREGORIAN
BEGIN:VEVENT
DTSTART:20131217T091500Z
DTEND:20131217T091500Z
UID:e13731
DTSTAMP:20260425T225252Z
LOCATION:Wolfson Building for Biological Research
DESCRIPTION:TBA
SUMMARY:TBA
END:VEVENT
END:VCALENDAR