BEGIN:VCALENDAR
VERSION:2.0
PRODID:-//hacksw/handcal//NONSGML v1.0//EN
CALSCALE:GREGORIAN
BEGIN:VEVENT
DTSTART:20140520T091500Z
DTEND:20140520T091500Z
UID:e13739
DTSTAMP:20260424T223818Z
LOCATION:Wolfson Building for Biological Research
DESCRIPTION:Single Molecule Analysis of Gene Expression in the Intact Mammalian Liver
SUMMARY:Single Molecule Analysis of Gene Expression in the Intact Mammalian Liver
END:VEVENT
END:VCALENDAR