BEGIN:VCALENDAR
VERSION:2.0
PRODID:-//hacksw/handcal//NONSGML v1.0//EN
CALSCALE:GREGORIAN
BEGIN:VEVENT
DTSTART:20140121T073000Z
DTEND:20140121T080000Z
UID:e13748
DTSTAMP:20260425T070943Z
LOCATION:Wolfson Building for Biological Research
DESCRIPTION:Dissecting robust from tunable activities of type I IFNs.
SUMMARY:Dissecting robust from tunable activities of type I IFNs.
END:VEVENT
END:VCALENDAR