BEGIN:VCALENDAR
VERSION:2.0
PRODID:-//hacksw/handcal//NONSGML v1.0//EN
CALSCALE:GREGORIAN
BEGIN:VEVENT
DTSTART:20140202T050000Z
DTEND:20140203T050000Z
UID:e13757
DTSTAMP:20260425T234726Z
LOCATION:The David Lopatie Conference Centre
DESCRIPTION:Transcription\, Translation\, and Beyond: From Molecular Biology to Neurobiology
SUMMARY:Transcription\, Translation\, and Beyond: From Molecular Biology to Neurobiology
END:VEVENT
END:VCALENDAR