BEGIN:VCALENDAR
VERSION:2.0
PRODID:-//hacksw/handcal//NONSGML v1.0//EN
CALSCALE:GREGORIAN
BEGIN:VEVENT
DTSTART:20131230T080000Z
DTEND:20131230T080000Z
UID:e13758
DTSTAMP:20260424T174900Z
LOCATION:Dolfi and Lola Ebner Auditorium
DESCRIPTION:Life Sciences Colloquium
SUMMARY:Life Sciences Colloquium
END:VEVENT
END:VCALENDAR