BEGIN:VCALENDAR
VERSION:2.0
PRODID:-//hacksw/handcal//NONSGML v1.0//EN
CALSCALE:GREGORIAN
BEGIN:VEVENT
DTSTART:20131024T050000Z
DTEND:20131024T180000Z
UID:e13759
DTSTAMP:20260420T085549Z
LOCATION:The David Lopatie Conference Centre
DESCRIPTION:Frontiers in Inorganic Chemistry and Catalysis
SUMMARY:Frontiers in Inorganic Chemistry and Catalysis
END:VEVENT
END:VCALENDAR