BEGIN:VCALENDAR
VERSION:2.0
PRODID:-//hacksw/handcal//NONSGML v1.0//EN
CALSCALE:GREGORIAN
BEGIN:VEVENT
DTSTART:20131124T080000Z
DTEND:20131124T080000Z
UID:e13778
DTSTAMP:20260421T102840Z
LOCATION:Gerhard M.J. Schmidt Lecture Hall
DESCRIPTION:How hot can it be? Clumped isotopes perspective on Eocene high latitude temperatures.
SUMMARY:How hot can it be? Clumped isotopes perspective on Eocene high latitude temperatures.
END:VEVENT
END:VCALENDAR