BEGIN:VCALENDAR
VERSION:2.0
PRODID:-//hacksw/handcal//NONSGML v1.0//EN
CALSCALE:GREGORIAN
BEGIN:VEVENT
DTSTART:20131128T170000Z
DTEND:20131128T170000Z
UID:e13782
DTSTAMP:20260421T180746Z
LOCATION:Michael Sela Auditorium
DESCRIPTION:Aristocratic Pranks
SUMMARY:Aristocratic Pranks
END:VEVENT
END:VCALENDAR