BEGIN:VCALENDAR
VERSION:2.0
PRODID:-//hacksw/handcal//NONSGML v1.0//EN
CALSCALE:GREGORIAN
BEGIN:VEVENT
DTSTART:20131103T113000Z
DTEND:20131103T113000Z
UID:e13787
DTSTAMP:20260420T115044Z
LOCATION:Arthur and Rochelle Belfer Building for Biomedical Research
DESCRIPTION:The mammalian piRNA pathway\, from transposon silencing to germ line maintenance
SUMMARY:The mammalian piRNA pathway\, from transposon silencing to germ line maintenance
END:VEVENT
END:VCALENDAR