BEGIN:VCALENDAR
VERSION:2.0
PRODID:-//hacksw/handcal//NONSGML v1.0//EN
CALSCALE:GREGORIAN
BEGIN:VEVENT
DTSTART:20131029T110000Z
DTEND:20131029T113000Z
UID:e13793
DTSTAMP:20260420T194146Z
LOCATION:Wolfson Building for Biological Research
DESCRIPTION:Immunology by proxy - an old question at the organism's surface revisited
SUMMARY:Immunology by proxy - an old question at the organism's surface revisited
END:VEVENT
END:VCALENDAR