BEGIN:VCALENDAR
VERSION:2.0
PRODID:-//hacksw/handcal//NONSGML v1.0//EN
CALSCALE:GREGORIAN
BEGIN:VEVENT
DTSTART:20131106T070000Z
DTEND:20131106T070000Z
UID:e13803
DTSTAMP:20260420T155015Z
LOCATION:Arthur and Rochelle Belfer Building for Biomedical Research
DESCRIPTION:Noise and robustness in embryonic polarity
SUMMARY:Noise and robustness in embryonic polarity
END:VEVENT
END:VCALENDAR