BEGIN:VCALENDAR
VERSION:2.0
PRODID:-//hacksw/handcal//NONSGML v1.0//EN
CALSCALE:GREGORIAN
BEGIN:VEVENT
DTSTART:20131120T070000Z
DTEND:20131120T070000Z
UID:e13804
DTSTAMP:20260421T150500Z
LOCATION:Arthur and Rochelle Belfer Building for Biomedical Research
DESCRIPTION:Neural stem cells and regeneration in zebrafish
SUMMARY:Neural stem cells and regeneration in zebrafish
END:VEVENT
END:VCALENDAR