BEGIN:VCALENDAR
VERSION:2.0
PRODID:-//hacksw/handcal//NONSGML v1.0//EN
CALSCALE:GREGORIAN
BEGIN:VEVENT
DTSTART:20131204T070000Z
DTEND:20131204T070000Z
UID:e13805
DTSTAMP:20260421T223132Z
LOCATION:Arthur and Rochelle Belfer Building for Biomedical Research
DESCRIPTION:Developmental Club
SUMMARY:Developmental Club
END:VEVENT
END:VCALENDAR