BEGIN:VCALENDAR
VERSION:2.0
PRODID:-//hacksw/handcal//NONSGML v1.0//EN
CALSCALE:GREGORIAN
BEGIN:VEVENT
DTSTART:20140101T070000Z
DTEND:20140101T070000Z
UID:e13807
DTSTAMP:20260425T124626Z
LOCATION:Arthur and Rochelle Belfer Building for Biomedical Research
DESCRIPTION:Hindbrain development\; from pattern formation to neuronal networks
SUMMARY:Hindbrain development\; from pattern formation to neuronal networks
END:VEVENT
END:VCALENDAR