BEGIN:VCALENDAR
VERSION:2.0
PRODID:-//hacksw/handcal//NONSGML v1.0//EN
CALSCALE:GREGORIAN
BEGIN:VEVENT
DTSTART:20131013T100000Z
DTEND:20131013T100000Z
UID:e13808
DTSTAMP:20260419T224757Z
LOCATION:Arthur and Rochelle Belfer Building for Biomedical Research
DESCRIPTION:Addiction of t(8\;21) and inv(16) Acute Myeloid Leukemia to Native RUNX1
SUMMARY:Addiction of t(8\;21) and inv(16) Acute Myeloid Leukemia to Native RUNX1
END:VEVENT
END:VCALENDAR