BEGIN:VCALENDAR
VERSION:2.0
PRODID:-//hacksw/handcal//NONSGML v1.0//EN
CALSCALE:GREGORIAN
BEGIN:VEVENT
DTSTART:20131009T111500Z
DTEND:20131009T111500Z
UID:e13812
DTSTAMP:20260419T224751Z
LOCATION:Edna and K.B. Weissman Building of Physical Sciences
DESCRIPTION:Exact relation between Eulerian and Lagrangian velocity increment statistics
SUMMARY:Exact relation between Eulerian and Lagrangian velocity increment statistics
END:VEVENT
END:VCALENDAR