BEGIN:VCALENDAR
VERSION:2.0
PRODID:-//hacksw/handcal//NONSGML v1.0//EN
CALSCALE:GREGORIAN
BEGIN:VEVENT
DTSTART:20131030T081500Z
DTEND:20131030T081500Z
UID:e13814
DTSTAMP:20260420T085615Z
LOCATION:Edna and K.B. Weissman Building of Physical Sciences
DESCRIPTION:   From the Cold War to poker tournaments: An introduction to game theory
SUMMARY:   From the Cold War to poker tournaments: An introduction to game theory
END:VEVENT
END:VCALENDAR