BEGIN:VCALENDAR
VERSION:2.0
PRODID:-//hacksw/handcal//NONSGML v1.0//EN
CALSCALE:GREGORIAN
BEGIN:VEVENT
DTSTART:20131107T110000Z
DTEND:20131107T120000Z
UID:e13817
DTSTAMP:20260420T155009Z
LOCATION:
DESCRIPTION:Why is type 1 diabetes a stubborn chronic disease?
SUMMARY:Why is type 1 diabetes a stubborn chronic disease?
END:VEVENT
END:VCALENDAR