BEGIN:VCALENDAR
VERSION:2.0
PRODID:-//hacksw/handcal//NONSGML v1.0//EN
CALSCALE:GREGORIAN
BEGIN:VEVENT
DTSTART:20131022T110000Z
DTEND:20131022T110000Z
UID:e13819
DTSTAMP:20260421T051351Z
LOCATION:Perlman Chemical Sciences Building
DESCRIPTION:Materials simulation for clean energy\, water and pharmaceuticals
SUMMARY:Materials simulation for clean energy\, water and pharmaceuticals
END:VEVENT
END:VCALENDAR