BEGIN:VCALENDAR
VERSION:2.0
PRODID:-//hacksw/handcal//NONSGML v1.0//EN
CALSCALE:GREGORIAN
BEGIN:VEVENT
DTSTART:20131023T080000Z
DTEND:20131023T080000Z
UID:e13820
DTSTAMP:20260420T085548Z
LOCATION:Perlman Chemical Sciences Building
DESCRIPTION:How complex can forming ionic crystals from ions in aqueous solution really be?The intriguing case of calcium carbonate.
SUMMARY:How complex can forming ionic crystals from ions in aqueous solution really be?The intriguing case of calcium carbonate.
END:VEVENT
END:VCALENDAR