BEGIN:VCALENDAR
VERSION:2.0
PRODID:-//hacksw/handcal//NONSGML v1.0//EN
CALSCALE:GREGORIAN
BEGIN:VEVENT
DTSTART:20131016T080000Z
DTEND:20131016T080000Z
UID:e13822
DTSTAMP:20260419T224749Z
LOCATION:Jacob Ziskind Building
DESCRIPTION:On differential central extensions of Chevalley groups Lecture I
SUMMARY:On differential central extensions of Chevalley groups Lecture I
END:VEVENT
END:VCALENDAR