BEGIN:VCALENDAR
VERSION:2.0
PRODID:-//hacksw/handcal//NONSGML v1.0//EN
CALSCALE:GREGORIAN
BEGIN:VEVENT
DTSTART:20131023T080000Z
DTEND:20131023T080000Z
UID:e13823
DTSTAMP:20260421T223120Z
LOCATION:Jacob Ziskind Building
DESCRIPTION:On differential central extensions of Chevalley groups Lecture II
SUMMARY:On differential central extensions of Chevalley groups Lecture II
END:VEVENT
END:VCALENDAR