BEGIN:VCALENDAR
VERSION:2.0
PRODID:-//hacksw/handcal//NONSGML v1.0//EN
CALSCALE:GREGORIAN
BEGIN:VEVENT
DTSTART:20131029T103000Z
DTEND:20131029T110000Z
UID:e13824
DTSTAMP:20260421T235410Z
LOCATION:Wolfson Building for Biological Research
DESCRIPTION:Balancing diversity and similarity: Getting to the core of T cell repertoire
SUMMARY:Balancing diversity and similarity: Getting to the core of T cell repertoire
END:VEVENT
END:VCALENDAR