BEGIN:VCALENDAR
VERSION:2.0
PRODID:-//hacksw/handcal//NONSGML v1.0//EN
CALSCALE:GREGORIAN
BEGIN:VEVENT
DTSTART:20131023T090000Z
DTEND:20131023T100000Z
UID:e13827
DTSTAMP:20260420T115053Z
LOCATION:Gerhard M.J. Schmidt Lecture Hall
DESCRIPTION:Staff Scientists Seminar - Dr. Tal Ilani
SUMMARY:Staff Scientists Seminar - Dr. Tal Ilani
END:VEVENT
END:VCALENDAR