BEGIN:VCALENDAR
VERSION:2.0
PRODID:-//hacksw/handcal//NONSGML v1.0//EN
CALSCALE:GREGORIAN
BEGIN:VEVENT
DTSTART:20131009T081500Z
DTEND:20131009T090000Z
UID:e13828
DTSTAMP:20260419T224756Z
LOCATION:Nella and Leon Benoziyo Physics Building
DESCRIPTION:New views of Type Ia Supernovae: exploring explosion properties with UV spectra and with larger spectral samples
SUMMARY:New views of Type Ia Supernovae: exploring explosion properties with UV spectra and with larger spectral samples
END:VEVENT
END:VCALENDAR