BEGIN:VCALENDAR
VERSION:2.0
PRODID:-//hacksw/handcal//NONSGML v1.0//EN
CALSCALE:GREGORIAN
BEGIN:VEVENT
DTSTART:20140401T070000Z
DTEND:20140401T080000Z
UID:e13829
DTSTAMP:20260424T023917Z
LOCATION:Wolfson Building for Biological Research
DESCRIPTION:The expanding vocabulary of RNA
SUMMARY:The expanding vocabulary of RNA
END:VEVENT
END:VCALENDAR