BEGIN:VCALENDAR
VERSION:2.0
PRODID:-//hacksw/handcal//NONSGML v1.0//EN
CALSCALE:GREGORIAN
BEGIN:VEVENT
DTSTART:20140513T070000Z
DTEND:20140513T080000Z
UID:e13832
DTSTAMP:20260425T075222Z
LOCATION:Dolfi and Lola Ebner Auditorium
DESCRIPTION:The 8th C.B. Anfinsen Memorial Lecture  - Prof. Robert Stroud
SUMMARY:The 8th C.B. Anfinsen Memorial Lecture  - Prof. Robert Stroud
END:VEVENT
END:VCALENDAR