BEGIN:VCALENDAR
VERSION:2.0
PRODID:-//hacksw/handcal//NONSGML v1.0//EN
CALSCALE:GREGORIAN
BEGIN:VEVENT
DTSTART:20131028T080000Z
DTEND:20131028T090000Z
UID:e13854
DTSTAMP:20260420T194239Z
LOCATION:Dolfi and Lola Ebner Auditorium
DESCRIPTION:2013 Sir John C. Kendrew Memorial  Lecture
SUMMARY:2013 Sir John C. Kendrew Memorial  Lecture
END:VEVENT
END:VCALENDAR