BEGIN:VCALENDAR
VERSION:2.0
PRODID:-//hacksw/handcal//NONSGML v1.0//EN
CALSCALE:GREGORIAN
BEGIN:VEVENT
DTSTART:20131016T080000Z
DTEND:20131016T080000Z
UID:e13857
DTSTAMP:20260419T224749Z
LOCATION:Perlman Chemical Sciences Building
DESCRIPTION:Development of new Li ion battery and Fuel Cell Materials 
SUMMARY:Development of new Li ion battery and Fuel Cell Materials 
END:VEVENT
END:VCALENDAR